BEGIN:VCALENDAR
VERSION:2.0
PRODID:-//Eglise évangélique de Toulouse Ouest - ECPv4.6//NONSGML v1.0//EN
CALSCALE:GREGORIAN
METHOD:PUBLISH
X-WR-CALNAME:Eglise évangélique de Toulouse Ouest
X-ORIGINAL-URL:https://www.add31100.fr
X-WR-CALDESC:Events for Eglise évangélique de Toulouse Ouest
BEGIN:VEVENT
DTSTART;TZID=Europe/Paris:20251104T200000
DTEND;TZID=Europe/Paris:20251104T213000
DTSTAMP:20260423T122022
CREATED:20250824T000004Z
LAST-MODIFIED:20250824T000004Z
UID:7428-1762286400-1762291800@www.add31100.fr
SUMMARY:20:00 Prière
DESCRIPTION:Message biblique et prière \n
URL:https://www.add31100.fr/event/2000-priere-20251104/
LOCATION:8 rue Edmond Haraucourt\, Toulouse\, 31100\, France
CATEGORIES:Culte
ATTACH;FMTTYPE=image/jpeg:https://www.add31100.fr/tlse-ouest/wp-content/uploads/2015/11/priere-etude-biblique.jpg
END:VEVENT
END:VCALENDAR