BEGIN:VCALENDAR
VERSION:2.0
PRODID:-//Eglise évangélique de Toulouse Ouest - ECPv4.6//NONSGML v1.0//EN
CALSCALE:GREGORIAN
METHOD:PUBLISH
X-WR-CALNAME:Eglise évangélique de Toulouse Ouest
X-ORIGINAL-URL:https://www.add31100.fr
X-WR-CALDESC:Events for Eglise évangélique de Toulouse Ouest
BEGIN:VEVENT
DTSTART;TZID=Europe/Paris:20241215T100000
DTEND;TZID=Europe/Paris:20241215T113000
DTSTAMP:20260419T175755
CREATED:20241006T000005Z
LAST-MODIFIED:20241006T000005Z
UID:7133-1734256800-1734262200@www.add31100.fr
SUMMARY:10:00 Culte
DESCRIPTION:Culte de louange et message biblique \n
URL:https://www.add31100.fr/event/1000-culte-20241215/
LOCATION:8 rue Edmond Haraucourt\, Toulouse\, 31100\, France
CATEGORIES:Culte
ATTACH;FMTTYPE=image/jpeg:https://www.add31100.fr/tlse-ouest/wp-content/uploads/2015/11/culte-louange.jpg
END:VEVENT
END:VCALENDAR