BEGIN:VCALENDAR
VERSION:2.0
PRODID:-//Eglise évangélique de Toulouse Ouest - ECPv4.6//NONSGML v1.0//EN
CALSCALE:GREGORIAN
METHOD:PUBLISH
X-WR-CALNAME:Eglise évangélique de Toulouse Ouest
X-ORIGINAL-URL:https://www.add31100.fr
X-WR-CALDESC:Events for Eglise évangélique de Toulouse Ouest
BEGIN:VEVENT
DTSTART;TZID=Europe/Paris:20240331T100000
DTEND;TZID=Europe/Paris:20240331T113000
DTSTAMP:20260425T005513
CREATED:20240121T020004Z
LAST-MODIFIED:20240121T020004Z
UID:6807-1711879200-1711884600@www.add31100.fr
SUMMARY:10:00 Culte
DESCRIPTION:Culte de louange et message biblique \n
URL:https://www.add31100.fr/event/1000-culte-20240331/
LOCATION:8 rue Edmond Haraucourt\, Toulouse\, 31100\, France
CATEGORIES:Culte
ATTACH;FMTTYPE=image/jpeg:https://www.add31100.fr/tlse-ouest/wp-content/uploads/2015/11/culte-louange.jpg
END:VEVENT
END:VCALENDAR